BEGIN:VCALENDAR
VERSION:2.0
PRODID:-//brick.news//Events//EN
CALSCALE:GREGORIAN
METHOD:PUBLISH
BEGIN:VEVENT
UID:event-832@brick.news
DTSTAMP:20260421T113019Z
DTSTART;VALUE=DATE:20260509
DTEND;VALUE=DATE:20260511
SUMMARY:21st Annual Paradise Chocolate Festival
DESCRIPTION:21st Annual Chocolate Festival in Paradise California. Come get chocolate\\, music\\, play games\\, and come play with LEGO and participate in our building competition\\, Everyone Gets 2 hours to build whatever they can imagine and we will judge and give prizes for 1st place over 5 age categories.
LOCATION:6626 Skyway\\, United States
URL:https://brick.news/calendar/event/21st-annual-paradise-chocolate-festival
STATUS:CONFIRMED
END:VEVENT
END:VCALENDAR