BEGIN:VCALENDAR
VERSION:2.0
PRODID:-//brick.news//Events//EN
CALSCALE:GREGORIAN
METHOD:PUBLISH
BEGIN:VEVENT
UID:event-820@brick.news
DTSTAMP:20260421T152847Z
DTSTART;VALUE=DATE:20260411
DTEND;VALUE=DATE:20260413
SUMMARY:Brickantiers @ Facts Spring 2026
DESCRIPTION:We’re excited to announce that Brickantiers will be back at FACTS\\, your Belgian comic con this year! 🎉 As always\\, you’ll find us at our stand showcasing our latest and greatest LEGO builds. From detailed creations to imaginative designs\\, there’s something for every LEGO fan to enjoy! If you’re visiting FACTS\\, be sure to stop by\\, take a closer look at our builds\\, and come say hello—we’d l
LOCATION:Maaltekouter 1\\, Belgium
URL:https://brick.news/calendar/event/brickantiers-facts-spring-2026
STATUS:CONFIRMED
END:VEVENT
END:VCALENDAR