BEGIN:VCALENDAR
VERSION:2.0
PRODID:-//brick.news//Events//EN
CALSCALE:GREGORIAN
METHOD:PUBLISH
BEGIN:VEVENT
UID:event-862@brick.news
DTSTAMP:20260421T112850Z
DTSTART;VALUE=DATE:20260619
DTEND;VALUE=DATE:20260620
SUMMARY:Bricking Bavaria Stammtisch München WEST
DESCRIPTION:[Monthly meeting of Bricking Bavaria in Munich - open to everybody] Hallo liebe LEGO-Leute! Wir treffen uns regelmäßig beim Stammtisch in München zum austauschen\\, fachsimpeln und gemeinsam eine schöne Zeit verbringen. Unser Stammtisch findet jeden dritten Freitag im Monat statt. Dabei wechseln wir nun zwischen West (an geraden Monaten) und Ost (a
LOCATION:Erdinger Weißbräu\\, Germany
URL:https://brick.news/calendar/event/bricking-bavaria-stammtisch-m-nchen-west
STATUS:CONFIRMED
END:VEVENT
END:VCALENDAR