BEGIN:VCALENDAR
VERSION:2.0
PRODID:-//brick.news//Events//EN
CALSCALE:GREGORIAN
METHOD:PUBLISH
BEGIN:VEVENT
UID:event-884@brick.news
DTSTAMP:20260421T222901Z
DTSTART;VALUE=DATE:20260620
DTEND;VALUE=DATE:20260622
SUMMARY:Brickworld Chicago 2026
DESCRIPTION:125\\,000 sq ft event space with original LEGO creations and displays built by fans from around the world\\, unique LEGO vendors\\, fun activities for kids of all ages\\, panel discussions and presentations from LEGO experts. Admission: $18.00 general / $15.00 military & first responders (door only) / Free kids 3 & under. Tickets: https://www.eventbrite.com/e/brickworld-chicago-2026-tickets-1975881211894. Also hosts the annual Recognised LEGO Fan Convention (AFOL\\, Wed–Sun same week). Single-day passes only.
LOCATION:Renaissance Schaumburg Hotel & Convention Center\\, 1551 N Thoreau Dr\\, Schaumburg\\, IL 60173\\, Schaumburg\\, United States
URL:https://brick.news/calendar/event/brickworld-chicago-2026
STATUS:CONFIRMED
END:VEVENT
END:VCALENDAR