BEGIN:VCALENDAR
VERSION:2.0
PRODID:-//brick.news//Events//EN
CALSCALE:GREGORIAN
METHOD:PUBLISH
BEGIN:VEVENT
UID:event-886@brick.news
DTSTAMP:20260421T222901Z
DTSTART;VALUE=DATE:20261010
DTEND;VALUE=DATE:20261012
SUMMARY:Brickworld Fort Wayne 2026
DESCRIPTION:Original LEGO creations and displays\\, unique LEGO vendors\\, fun activities for kids of all ages. Admission: $18.00 general / $15.00 military & first responders (door only) / Free kids 3 & under. Tickets not yet available — check https://brickworld.com/fort-wayne.
LOCATION:Allen County War Memorial Coliseum\\, 4000 Parnell Ave\\, Fort Wayne\\, IN 46805\\, Fort Wayne\\, United States
URL:https://brick.news/calendar/event/brickworld-fort-wayne-2026
STATUS:CONFIRMED
END:VEVENT
END:VCALENDAR