BEGIN:VCALENDAR
VERSION:2.0
PRODID:-//brick.news//Events//EN
CALSCALE:GREGORIAN
METHOD:PUBLISH
BEGIN:VEVENT
UID:event-885@brick.news
DTSTAMP:20260421T222402Z
DTSTART;VALUE=DATE:20260901
DTEND;VALUE=DATE:20261001
SUMMARY:Brickworld Grand Rapids 2026
DESCRIPTION:Original LEGO creations and displays\\, unique LEGO vendors\\, fun activities for kids of all ages. Admission: $18.00 general / $15.00 military & first responders (door only) / Free kids 3 & under. Exact dates to be announced — check https://brickworld.com/grand-rapids for updates.
LOCATION:DeVos Place\\, 303 Monroe Ave NW\\, Grand Rapids\\, MI 49503\\, Grand Rapids\\, United States
URL:https://brick.news/calendar/event/brickworld-grand-rapids-2026
STATUS:CONFIRMED
END:VEVENT
END:VCALENDAR