BEGIN:VCALENDAR
VERSION:2.0
PRODID:-//brick.news//Events//EN
CALSCALE:GREGORIAN
METHOD:PUBLISH
BEGIN:VEVENT
UID:event-887@brick.news
DTSTAMP:20260421T222505Z
DTSTART;VALUE=DATE:20270301
DTEND;VALUE=DATE:20270401
SUMMARY:Brickworld Indianapolis 2027
DESCRIPTION:Original LEGO creations and displays\\, unique LEGO vendors\\, fun activities for kids of all ages. Admission: $18.00 general / $15.00 military & first responders (door only) / Free kids 3 & under. Exact dates to be announced — check https://brickworld.com/indianapolis for updates.
LOCATION:Indiana State Fairgrounds\\, 1202 East 38th Street\\, Indianapolis\\, IN 46205\\, Indianapolis\\, United States
URL:https://brick.news/calendar/event/brickworld-indianapolis-2027
STATUS:CONFIRMED
END:VEVENT
END:VCALENDAR