BEGIN:VCALENDAR
VERSION:2.0
PRODID:-//brick.news//Events//EN
CALSCALE:GREGORIAN
METHOD:PUBLISH
BEGIN:VEVENT
UID:event-871@brick.news
DTSTAMP:20260421T113003Z
DTSTART;VALUE=DATE:20260704
DTEND;VALUE=DATE:20260705
SUMMARY:Brisy's Community Meet Up July 2026
DESCRIPTION:Hello\\, Usually\\, our monthly meet-up is done in 2 parts as the venue is not that large. - In the morning : Activities for our Kids members with their parents - In the afternoon : Sharing best practice session on diffeent kind of topics with AFOLs only around a specific subject. This July session will be the last before holidays break. We may do somethiing different this t
LOCATION:LE PERRAY EN YVELINES\\, France
URL:https://brick.news/calendar/event/brisy-s-community-meet-up-july-2026
STATUS:CONFIRMED
END:VEVENT
END:VCALENDAR