BEGIN:VCALENDAR
VERSION:2.0
PRODID:-//brick.news//Events//EN
CALSCALE:GREGORIAN
METHOD:PUBLISH
BEGIN:VEVENT
UID:event-843@brick.news
DTSTAMP:20260421T112850Z
DTSTART;VALUE=DATE:20260606
DTEND;VALUE=DATE:20260607
SUMMARY:Brisy's Community Meet Up June 2026
DESCRIPTION:Hello\\, Our monthly meet-up is done in 2 parts as the venue is not that large. - In the morning : Activities for our Kids members with their parents - In the afternoon : Sharing best practice session on diffeent kind of topics with AFOLs only around a specific subject. If you are not far from us. Please contact us to see if we can have a place for you. Jerome and Brisy Boar
LOCATION:LE PERRAY EN YVELINES\\, France
URL:https://brick.news/calendar/event/brisy-s-community-meet-up-june-2026
STATUS:CONFIRMED
END:VEVENT
END:VCALENDAR