BEGIN:VCALENDAR
VERSION:2.0
PRODID:-//brick.news//Events//EN
CALSCALE:GREGORIAN
METHOD:PUBLISH
BEGIN:VEVENT
UID:event-827@brick.news
DTSTAMP:20260421T112829Z
DTSTART;VALUE=DATE:20260501
DTEND;VALUE=DATE:20260511
SUMMARY:BULAT Display @ Mabohai Shopping Complex (D@MSC) 2026
DESCRIPTION:BULAT will have their annual display at Mabohai Shopping Complex this year.
LOCATION:Jalan Kebangsaan\\, Unknown
URL:https://brick.news/calendar/event/bulat-display-mabohai-shopping-complex-d-msc-2026
STATUS:CONFIRMED
END:VEVENT
END:VCALENDAR