BEGIN:VCALENDAR
VERSION:2.0
PRODID:-//brick.news//Events//EN
CALSCALE:GREGORIAN
METHOD:PUBLISH
BEGIN:VEVENT
UID:event-821@brick.news
DTSTAMP:20260421T153303Z
DTSTART;VALUE=DATE:20260411
DTEND;VALUE=DATE:20260412
SUMMARY:Compass Charter STEM Night
DESCRIPTION:We will be at Compass Charter School for their annual STEM night! Come and join us for an educational evening where students can explore the wonders of science\\, technology\\, engineering\\, and mathematics through hands-on activities\\, demonstrations\\, and engaging presentations. We will have several LEGO themed challenges for students of all ages!
LOCATION:4667 W Aviator St\\, United States
URL:https://brick.news/calendar/event/compass-charter-stem-night
STATUS:CONFIRMED
END:VEVENT
END:VCALENDAR