BEGIN:VCALENDAR
VERSION:2.0
PRODID:-//brick.news//Events//EN
CALSCALE:GREGORIAN
METHOD:PUBLISH
BEGIN:VEVENT
UID:event-882@brick.news
DTSTAMP:20260421T110629Z
DTSTART;VALUE=DATE:20260725
DTEND;VALUE=DATE:20260726
SUMMARY:Dinosaurs!
DESCRIPTION:A fun family day with Brickcentral as we host basic photography workshop with LEGO brick built forest scene where you can take photos of LEGO minifigures and dinosaurs! Raffle prizes will be given away and small bites and drinks provided. Add an extra layer of play to your LEGO with LEGO photography!
LOCATION:Jersey City Public Library\\, United States
URL:https://brick.news/calendar/event/dinosaurs
STATUS:CONFIRMED
END:VEVENT
END:VCALENDAR