BEGIN:VCALENDAR
VERSION:2.0
PRODID:-//brick.news//Events//EN
CALSCALE:GREGORIAN
METHOD:PUBLISH
BEGIN:VEVENT
UID:event-826@brick.news
DTSTAMP:20260421T113200Z
DTSTART;VALUE=DATE:20260501
DTEND;VALUE=DATE:20260504
SUMMARY:Festival dei Mattoncini - MarcheBrick partecipa a 1° Maggio Agraria
DESCRIPTION:Preparati a entrare in un mondo fatto di creatività\\, divertimento e… tantissimi mattoncini! San Benedetto del Tronto 1 e 3 Maggio 2026 Dalle 10:00 alle 19:00 Centro Sportivo S. D’Angelo – Quartiere Agraria INGRESSO LIBERO Cosa ti aspetta: Area espositiva di 600 m² con spettacolari opere LEGO® Gare di costruzione per i più piccoli
LOCATION:Via Val Cuvia Centro Sportivo S. D’Angelo – Quartiere Agraria\\, Italy
URL:https://brick.news/calendar/event/festival-dei-mattoncini-marchebrick-partecipa-a-1-maggio-agraria
STATUS:CONFIRMED
END:VEVENT
END:VCALENDAR