BEGIN:VCALENDAR
VERSION:2.0
PRODID:-//brick.news//Events//EN
CALSCALE:GREGORIAN
METHOD:PUBLISH
BEGIN:VEVENT
UID:event-822@brick.news
DTSTAMP:20260421T152408Z
DTSTART;VALUE=DATE:20260411
DTEND;VALUE=DATE:20260412
SUMMARY:FLL Explore Expo
DESCRIPTION:Come find us at the FLL Expo - We will have LEGO displays and the Great Ball contraption!
LOCATION:441 E Porter St\\, Unknown
URL:https://brick.news/calendar/event/fll-explore-expo
STATUS:CONFIRMED
END:VEVENT
END:VCALENDAR