BEGIN:VCALENDAR
VERSION:2.0
PRODID:-//brick.news//Events//EN
CALSCALE:GREGORIAN
METHOD:PUBLISH
BEGIN:VEVENT
UID:event-867@brick.news
DTSTAMP:20260421T113103Z
DTSTART;VALUE=DATE:20260621
DTEND;VALUE=DATE:20260622
SUMMARY:GayFOLs  June Monthly Zoom gathering
DESCRIPTION:DATE/TIME Sunday\\, June 21 1:00 PM to 3:00 PM US Eastern 5:00 PM to 7:00 PM UTC MEETING INFO https://us02web.zoom.us/j/84310157085... Meeting ID: 843 1015 7085 Passcode: gayfols DESCRIPTION These gatherings are your chance to catch up with your fellow GayFOLs members from around the world. We'll have reports and pictures from recent LEGO conventions and gathering
LOCATION:Unknown
URL:https://brick.news/calendar/event/gayfols-june-monthly-zoom-gathering
STATUS:CONFIRMED
END:VEVENT
END:VCALENDAR