BEGIN:VCALENDAR
VERSION:2.0
PRODID:-//brick.news//Events//EN
CALSCALE:GREGORIAN
METHOD:PUBLISH
BEGIN:VEVENT
UID:event-825@brick.news
DTSTAMP:20260421T113147Z
DTSTART;VALUE=DATE:20260430
DTEND;VALUE=DATE:20260503
SUMMARY:Heart of the Ozarks Craft Fair
DESCRIPTION:https://www.heartoftheozarkscraftfair.com Washington County Fairgrounds 2463 N McConnell Ave Fayetteville\\, AR 72704
LOCATION:2463 N McConnell Ave\\, Unknown
URL:https://brick.news/calendar/event/heart-of-the-ozarks-craft-fair
STATUS:CONFIRMED
END:VEVENT
END:VCALENDAR