BEGIN:VCALENDAR
VERSION:2.0
PRODID:-//brick.news//Events//EN
CALSCALE:GREGORIAN
METHOD:PUBLISH
BEGIN:VEVENT
UID:event-851@brick.news
DTSTAMP:20260421T112721Z
DTSTART;VALUE=DATE:20260613
DTEND;VALUE=DATE:20260614
SUMMARY:Hobbydag på Flygvapenmuseum
DESCRIPTION:Välkomna till Hobbydag på FVM den 13 juni. Fira flygvapnet 100 år med modeller av svenska flygplan.
LOCATION:linköping\\, Sweden
URL:https://brick.news/calendar/event/hobbydag-p-flygvapenmuseum
STATUS:CONFIRMED
END:VEVENT
END:VCALENDAR