BEGIN:VCALENDAR
VERSION:2.0
PRODID:-//brick.news//Events//EN
CALSCALE:GREGORIAN
METHOD:PUBLISH
BEGIN:VEVENT
UID:event-811@brick.news
DTSTAMP:20260421T142900Z
DTSTART;VALUE=DATE:20260403
DTEND;VALUE=DATE:20260420
SUMMARY:Mario Kart sets Super Mario Galaxy Movie
DESCRIPTION:We are so happy to share a member's mario kart sets to share the new Mario Movie hype!
LOCATION:Redondel Masferrer\\, Unknown
URL:https://brick.news/calendar/event/mario-kart-sets-super-mario-galaxy-movie
STATUS:CONFIRMED
END:VEVENT
END:VCALENDAR