BEGIN:VCALENDAR
VERSION:2.0
PRODID:-//brick.news//Events//EN
CALSCALE:GREGORIAN
METHOD:PUBLISH
BEGIN:VEVENT
UID:event-819@brick.news
DTSTAMP:20260421T160513Z
DTSTART;VALUE=DATE:20260411
DTEND;VALUE=DATE:20260412
SUMMARY:Marshy Point Nature Center Spring Festival
DESCRIPTION:For the Marshy Point Nature Center Spring Festival\\, we will be displaying nature theme sets and MOCs\\, bringing the playbrick and also piloting the Botanical package.
LOCATION:Unknown
URL:https://brick.news/calendar/event/marshy-point-nature-center-spring-festival
STATUS:CONFIRMED
END:VEVENT
END:VCALENDAR