BEGIN:VCALENDAR
VERSION:2.0
PRODID:-//brick.news//Events//EN
CALSCALE:GREGORIAN
METHOD:PUBLISH
BEGIN:VEVENT
UID:event-840@brick.news
DTSTAMP:20260421T110541Z
DTSTART;VALUE=DATE:20260605
DTEND;VALUE=DATE:20260606
SUMMARY:Math Alive!
DESCRIPTION:LOLUG will be at the SAC Museum to help open their new exhibit Math Alive!
LOCATION:28210 W Park Hwy\\, Unknown
URL:https://brick.news/calendar/event/math-alive
STATUS:CONFIRMED
END:VEVENT
END:VCALENDAR