BEGIN:VCALENDAR
VERSION:2.0
PRODID:-//brick.news//Events//EN
CALSCALE:GREGORIAN
METHOD:PUBLISH
BEGIN:VEVENT
UID:event-815@brick.news
DTSTAMP:20260421T141513Z
DTSTART;VALUE=DATE:20260404
DTEND;VALUE=DATE:20260405
SUMMARY:Movie Theater MegaCastillet Mario Movie
DESCRIPTION:Mini exhibition for the release of the Mario film at the largest cinema in Perpignan.
LOCATION:zac ront-point de rouma\\, France
URL:https://brick.news/calendar/event/movie-theater-megacastillet-mario-movie
STATUS:CONFIRMED
END:VEVENT
END:VCALENDAR