BEGIN:VCALENDAR
VERSION:2.0
PRODID:-//brick.news//Events//EN
CALSCALE:GREGORIAN
METHOD:PUBLISH
BEGIN:VEVENT
UID:event-816@brick.news
DTSTAMP:20260421T153047Z
DTSTART;VALUE=DATE:20260408
DTEND;VALUE=DATE:20260409
SUMMARY:NMLUG 2026 April Meeting
DESCRIPTION:NMLUG 2026 April Meeting Bring to meeting challenge for April is a Star Wars build. The propeller iron builder challenge is for May.
LOCATION:6901 Barstow St NE\\, Mexico
URL:https://brick.news/calendar/event/nmlug-2026-april-meeting
STATUS:CONFIRMED
END:VEVENT
END:VCALENDAR