BEGIN:VCALENDAR
VERSION:2.0
PRODID:-//brick.news//Events//EN
CALSCALE:GREGORIAN
METHOD:PUBLISH
BEGIN:VEVENT
UID:event-807@brick.news
DTSTAMP:20260421T034543Z
DTSTART;VALUE=DATE:20260612
DTEND;VALUE=DATE:20260615
SUMMARY:Paredes de Coura Fan Weekend 2026
DESCRIPTION:We will once again turn the cosy little village of Paredes de Coura into the centre stage of the AFOL community. Organised by Comunidade 0937\\, this LEGO® Recognized AFOL Networking Event brings together Adult Fans of LEGO from around the world for a weekend of fantastic models\\, creations\\, and insightful workshops.\\nYour ticket includes three nights accommodation (B&amp\\;B)\\, all meals (breakfast\\, lunch\\, snacks\\, and dinner)\\, access to workshops\\, presentations and activities\\, the AFOL lounge with refreshments\\, a special Saturday dinner/buffet/barbecue\\, and a welcome swag bag with goodies.
LOCATION:Centro Cultural\\, Av. Cónego Bernardo Chousal\\, Paredes de Coura\\, Portugal
URL:https://brick.news/calendar/event/paredes-de-coura-fan-weekend-2026
STATUS:CONFIRMED
END:VEVENT
END:VCALENDAR