BEGIN:VCALENDAR
VERSION:2.0
PRODID:-//brick.news//Events//EN
CALSCALE:GREGORIAN
METHOD:PUBLISH
BEGIN:VEVENT
UID:event-861@brick.news
DTSTAMP:20260421T112630Z
DTSTART;VALUE=DATE:20260619
DTEND;VALUE=DATE:20260622
SUMMARY:Pyrkon 2026
DESCRIPTION:LUGPOL exhibition during the Pyrkon festival.
LOCATION:Głogowska 14\\, Poland
URL:https://brick.news/calendar/event/pyrkon-2026
STATUS:CONFIRMED
END:VEVENT
END:VCALENDAR