BEGIN:VCALENDAR
VERSION:2.0
PRODID:-//brick.news//Events//EN
CALSCALE:GREGORIAN
METHOD:PUBLISH
BEGIN:VEVENT
UID:event-880@brick.news
DTSTAMP:20260421T112856Z
DTSTART;VALUE=DATE:20260711
DTEND;VALUE=DATE:20260712
SUMMARY:QuéLUG's Summer quarterly Meeting
DESCRIPTION:See link for details
LOCATION:Mascouche\\, Canada
URL:https://brick.news/calendar/event/qu-lug-s-summer-quarterly-meeting
STATUS:CONFIRMED
END:VEVENT
END:VCALENDAR