BEGIN:VCALENDAR
VERSION:2.0
PRODID:-//brick.news//Events//EN
CALSCALE:GREGORIAN
METHOD:PUBLISH
BEGIN:VEVENT
UID:event-830@brick.news
DTSTAMP:20260421T112728Z
DTSTART;VALUE=DATE:20260501
DTEND;VALUE=DATE:20260503
SUMMARY:RomaBrick Latina 2026
DESCRIPTION:The most important RomaBrick's event\\, this is the 16th edition. The museum\\, where event takes place\\, is near Rome so many Afols can join exhibition with their MOCs. Visitors will be find one of the biggest Space Diorama full of vintage sets\\, a large Community city Diorama and a lot of MOCs! They can play with hundreds kilograms of LEGO at Pick'n'Build and they can build a new Mosaic.
LOCATION:Strada Migliara 43 1/2\\, Unknown
URL:https://brick.news/calendar/event/romabrick-latina-2026
STATUS:CONFIRMED
END:VEVENT
END:VCALENDAR