BEGIN:VCALENDAR
VERSION:2.0
PRODID:-//brick.news//Events//EN
CALSCALE:GREGORIAN
METHOD:PUBLISH
BEGIN:VEVENT
UID:event-808@brick.news
DTSTAMP:20260421T140535Z
DTSTART;VALUE=DATE:20260403
DTEND;VALUE=DATE:20260404
SUMMARY:Shadow Hills Elementary STEM Night
DESCRIPTION:We will be at Shadow Hills Elementary for their annual STEM night! Come and join us for an educational evening where students can explore the wonders of science\\, technology\\, engineering\\, and mathematics through hands-on activities\\, demonstrations\\, and engaging presentations. We will have several LEGO themed challenges for students of all ages!
LOCATION:8301 W Sloan St\\, Unknown
URL:https://brick.news/calendar/event/shadow-hills-elementary-stem-night
STATUS:CONFIRMED
END:VEVENT
END:VCALENDAR