BEGIN:VCALENDAR
VERSION:2.0
PRODID:-//brick.news//Events//EN
CALSCALE:GREGORIAN
METHOD:PUBLISH
BEGIN:VEVENT
UID:event-850@brick.news
DTSTAMP:20260421T113019Z
DTSTART;VALUE=DATE:20260611
DTEND;VALUE=DATE:20260612
SUMMARY:SILUG celebrates the World Play Day (11.06.26)
DESCRIPTION:To be determined...
LOCATION:Bellinzona\\, Switzerland
URL:https://brick.news/calendar/event/silug-celebrates-the-world-play-day-11-06-26
STATUS:CONFIRMED
END:VEVENT
END:VCALENDAR