BEGIN:VCALENDAR
VERSION:2.0
PRODID:-//brick.news//Events//EN
CALSCALE:GREGORIAN
METHOD:PUBLISH
BEGIN:VEVENT
UID:event-818@brick.news
DTSTAMP:20260421T141848Z
DTSTART;VALUE=DATE:20260411
DTEND;VALUE=DATE:20260413
SUMMARY:UN GIARDINO DI MATTONCINI - MESSER TULIPANO
DESCRIPTION:PLAY FREE AREA AND floral themed workshops
LOCATION:Castello di Pralormo\\, Italy
URL:https://brick.news/calendar/event/un-giardino-di-mattoncini-messer-tulipano
STATUS:CONFIRMED
END:VEVENT
END:VCALENDAR