BEGIN:VCALENDAR
VERSION:2.0
PRODID:-//brick.news//Events//EN
CALSCALE:GREGORIAN
METHOD:PUBLISH
BEGIN:VEVENT
UID:event-824@brick.news
DTSTAMP:20260421T113025Z
DTSTART;VALUE=DATE:20260425
DTEND;VALUE=DATE:20260427
SUMMARY:Warsaw Bemowo Spring 2026 Brick Festival
DESCRIPTION:On April 25th and 26th\\, 2026\\, we invite you to our next exhibition of models and maquettes built with LEGO bricks\\, which will take place in the Spotykalni at Galeria Bemowo. Bring your family and see city models\\, pirate ships\\, Cubic City\\, and much more. Enjoy some of the buildings and models illuminate as we dimm the light each hour. We invite you on Saturday\\, April 25\\, 2026\\, from 10:00 AM
LOCATION:Powstańców Śląskich\\, Poland
URL:https://brick.news/calendar/event/warsaw-bemowo-spring-2026-brick-festival
STATUS:CONFIRMED
END:VEVENT
END:VCALENDAR