BEGIN:VCALENDAR
VERSION:2.0
PRODID:-//brick.news//Events//EN
CALSCALE:GREGORIAN
METHOD:PUBLISH
BEGIN:VEVENT
UID:event-852@brick.news
DTSTAMP:20260421T112738Z
DTSTART;VALUE=DATE:20260613
DTEND;VALUE=DATE:20260615
SUMMARY:Welt der Steine im Stift St.Florian
DESCRIPTION:Wir freuen uns\\, euch auch in diesem Jahr wieder zur Ausstellung "Welt der Steine" im Stift St. Florian einladen zu dürfen. Wo: Stift St. Florian\\, Marmorsaal\\, 4490 St. Florian\\, Stiftstraße 1 Weitere Infos unter: Facebook weltdersteine.at Wir freuen uns auf viele interessierte Besucher.
LOCATION:Stiftstraße 1\\, Austria
URL:https://brick.news/calendar/event/welt-der-steine-im-stift-st-florian
STATUS:CONFIRMED
END:VEVENT
END:VCALENDAR