BEGIN:VCALENDAR
VERSION:2.0
PRODID:-//brick.news//Events//EN
CALSCALE:GREGORIAN
METHOD:PUBLISH
BEGIN:VEVENT
UID:event-877@brick.news
DTSTAMP:20260421T113153Z
DTSTART;VALUE=DATE:20260711
DTEND;VALUE=DATE:20260712
SUMMARY:Zomer Bricktopia Horst 2026 – LEGO® Expo in De Mèrthal
DESCRIPTION:For English\\, scroll down ⬇️ Op zaterdag 11 en zondag 12 juli 2026 organiseert Dutchbricks RLUG een zomerse editie van Bricktopia in De Mèrthal in Horst. Dit kleurrijke LEGO®-event staat in het teken van bouwen\\, bewonderen en beleven — voor jong en oud. Bezoekers kunnen zich laten verrassen door indrukwekkende LEGO®-opstellingen van leden en gastbouwers\\, deelnemen aan creatieve bou
LOCATION:Gasthuisstraat 30\\, Netherlands
URL:https://brick.news/calendar/event/zomer-bricktopia-horst-2026-lego-expo-in-de-m-rthal
STATUS:CONFIRMED
END:VEVENT
END:VCALENDAR